BEGIN:VCALENDAR
VERSION:2.0
PRODID:-//eventon.com NONSGML v1.0//EN
CALSCALE:GREGORIAN
METHOD:PUBLISH
BEGIN:VEVENT
UID:69e92bbeccafa
DTSTAMP:20260422T201246Z
DTSTART:20260712T210000Z
DTEND:20260718T210000Z
LOCATION:Kaustinen Kaustinen
SUMMARY:Kaustinen Folk Music Festival 2026
DESCRIPTION:Kaustinen Folk Music Festival on Pohjoismaiden suurin kansanmus
 iikkitapahtuma\,  jota on järjestetty jo vuodesta 1968. Tätä ennenkin Ka
 ustisella on ollut paikallisia tapahtumia\,  ja pelimannimusiikki on kulken
 ut paikkakunnan elämässä rinnalla jo kauan sitä ennen. Festivaalia on j
 ärjestetty vuosien varrella eri järjestäjäorganisaatioiden avulla\,  mu
 tta alusta lähtien pysyviä asioita ovat olleet kansanmusiikki ja -tanssi[
 ..]\nhttps://visitsauna.com/events/kaustinen-folk-music-festival-2026/
URL:https://visitsauna.com/events/kaustinen-folk-music-festival-2026/
END:VEVENT
END:VCALENDAR