BEGIN:VCALENDAR
VERSION:2.0
PRODID:-//eventon.com NONSGML v1.0//EN
CALSCALE:GREGORIAN
METHOD:PUBLISH
BEGIN:VEVENT
UID:69e92a0c50782
DTSTAMP:20260422T200532Z
DTSTART:20260809T100000Z
DTEND:20260809T100000Z
LOCATION:Sarvenperä Silokunnaantie 45\,  41930 Kuohu
SUMMARY:Sarvenperän Saunamaraton
DESCRIPTION:Sarvenperän ja Saukkolan kauniissa rantamaisemissa järjestett
 ävä Saunamaraton kutsuu saunan ystävät elämykselliselle päivälle luo
 nnon ja liikunnan pariin. Osallistujat kiertävät 13–15 erilaista saunaa
  kävellen noin 10 km reitin\,  johon sisältyy rantasaunoja\,  telttasauno
 ja ja siirtosaunoja\,  joista osa voi olla älysaunoja. Tapahtuma on suunna
 ttu ensikertalaisille ja jokainen osallistuu omalla vastuullaan. Päivän a
 ikana tarjotaan aamupala\, [..]\nhttps://visitsauna.com/events/sarvenperan-
 saunamaraton/
URL:https://visitsauna.com/events/sarvenperan-saunamaraton/
END:VEVENT
END:VCALENDAR