BEGIN:VCALENDAR
VERSION:2.0
PRODID:-//eventon.com NONSGML v1.0//EN
CALSCALE:GREGORIAN
METHOD:PUBLISH
BEGIN:VEVENT
UID:69e95e56baa42
DTSTAMP:20260422T234838Z
DTSTART:20250906T090000Z
DTEND:20250907T190000Z
LOCATION:Kurpitsatalo\,  Tahmelan ranta Isolähteenkatu 2
SUMMARY:Pispalan Saunafest 2025
DESCRIPTION:Pispalan Saunafest on loppukesän leppoisin kaupunginosafestiva
 ali\,  joka kokoaa yhteen saunomisen\,  musiikin ja yhteisöllisyyden. Tapa
 htuma on järjestetty vuodesta 2016\,  ja tänä vuonna juhlat levittäytyv
 ät jälleen Kurpitsatalon ympäristöön Tahmelan rantaan. Festareilla on 
 mukana toistakymmentä erilaista saunaa\,  aina perinteisistä teltta- ja m
 aisemasaunoista luoviin erikoisuuksiin\,  kuten saunabiiliin ja saunalautta
 an. Portit aukeavat molempina päivinä klo[..]\nhttps://visitsauna.com/eve
 nts/pispalan-saunafest-2025/
URL:https://visitsauna.com/events/pispalan-saunafest-2025/
END:VEVENT
END:VCALENDAR