BEGIN:VCALENDAR
VERSION:2.0
PRODID:-//eventon.com NONSGML v1.0//EN
CALSCALE:GREGORIAN
METHOD:PUBLISH
BEGIN:VEVENT
UID:69e99a1dbea1d
DTSTAMP:20260423T040341Z
DTSTART:20250724T100000Z
DTEND:20250725T100000Z
LOCATION:Lapinlahti Pajuharjuntie 16\,  73100 Lapinlahti
SUMMARY:Luovafest
DESCRIPTION:Sauna LuovaFestissä LuovaFestissä sauna on yksi tapahtuman sy
 dämistä. Metsäsauna tarjoaa pehmeät löylyt keskellä luontoa. Saunasta
  voi pulahtaa virkistävään järveen ja kokea perinteisen suomalaisen sau
 na-järvi-elämyksen. Saunahetkiin voi yhdistää päivän muut ohjelmat: j
 oogan\,  hoidot\,  taiteen ja musiikin. Saunominen tarjoaa paikan rauhoittu
 a\,  kohdata muita ja antaa kehon ja mielen rentoutua festivaalipäivän lo
 massa. Käytännön[..]\nhttps://visitsauna.com/events/luovafest/
URL:https://visitsauna.com/events/luovafest/
END:VEVENT
END:VCALENDAR