BEGIN:VCALENDAR
VERSION:2.0
PRODID:-//eventon.com NONSGML v1.0//EN
CALSCALE:GREGORIAN
METHOD:PUBLISH
BEGIN:VEVENT
UID:69e999729d4a6
DTSTAMP:20260423T040050Z
DTSTART:20251025
DTEND:20251026
LOCATION:
SUMMARY:World Sauna Day
DESCRIPTION:What is sauna day? Sauna Day is about living and breathing ever
 ything sauna-related. It is about creating events that bring happiness and 
 relaxation to people. Whether you’re a sauna enthusiast or just in search
  of a good time\,  this day is designed to provide an unique and unforgetta
 ble experience! There[..]\nhttps://visitsauna.com/events/world-sauna-day/
URL:https://visitsauna.com/events/world-sauna-day/
END:VEVENT
END:VCALENDAR