BEGIN:VCALENDAR
VERSION:2.0
PRODID:-//eventon.com NONSGML v1.0//EN
CALSCALE:GREGORIAN
METHOD:PUBLISH
BEGIN:VEVENT
UID:69e95e1f999ea
DTSTAMP:20260422T234743Z
DTSTART:20260115T160000Z
DTEND:20260119T050000Z
LOCATION:Loon Lake Lodge Loon Lake Lodge\,  Maple Ridge\,  BC
SUMMARY:West Coast Sauna Summit
DESCRIPTION:Welcome to the West Coast Sauna Summit Canada’s only sauna in
 dustry gathering returns for its second year! ​​From January 15–18\, 
  2026\,  the West Coast Sauna Summit brings together sauna lovers\,  builde
 rs\,  designers\,  entrepreneurs\,  operators\,  wellness practitioners\,  
 and hospitality leaders for a weekend of heat\,  connection\,  and momentum
 . Hosted at the[..]\nhttps://visitsauna.com/events/west-coast-sauna-summit/
URL:https://visitsauna.com/events/west-coast-sauna-summit/
END:VEVENT
END:VCALENDAR