BEGIN:VCALENDAR
VERSION:2.0
PRODID:-//eventon.com NONSGML v1.0//EN
CALSCALE:GREGORIAN
METHOD:PUBLISH
BEGIN:VEVENT
UID:69e99ac120db1
DTSTAMP:20260423T040625Z
DTSTART:20250906T100000Z
DTEND:20250906T210000Z
LOCATION:Uusikapunki SepÃ¤nkatu 4
SUMMARY:SaunapÃ¤ivÃ¤ - Avoimet lauteet
DESCRIPTION:Avoimet Lauteet â€“ syksyn suurin saunatapahtuma 6.9.2025 Vakka
 -Suomessa! Tule kokemaan perinteinen suomalainen sauna upeissa maisemissa! 
 Avoimet Lauteet -SaunapÃ¤ivÃ¤ kutsuu sinut tutustumaan Uudenkaupungin\,  Py
 hÃ¤rannan\,  Laitilan ja Vehmaan monipuoliseen saunatarjontaan. PÃ¤ivÃ¤n ai
 kana yksityiset\,  yritykset ja yhdistykset avaavat saunansa tapahtumaviera
 ille â€“ joko saunottavaksi tai muuten tutustuttavaksi\,  tapahtumassa pÃ¤Ã
 ¤see tutustumaan siis saunoihin lÃ¶ylytellen\,  mutta[..]\nhttps://visitsau
 na.com/events/saunapaiva-avoimet-lauteet/
URL:https://visitsauna.com/events/saunapaiva-avoimet-lauteet/
END:VEVENT
END:VCALENDAR