BEGIN:VCALENDAR
VERSION:2.0
PRODID:-//eventon.com NONSGML v1.0//EN
CALSCALE:GREGORIAN
METHOD:PUBLISH
BEGIN:VEVENT
UID:69e9bb057519a
DTSTAMP:20260423T062405Z
DTSTART:20250816T090000Z
DTEND:20250816T190000Z
LOCATION:Imatran Varpasaari Varpasaari
SUMMARY:Saunan Vuoksi Festivaali
DESCRIPTION:Saunan Vuoksi Festivaali Imatralla 16.8.2025! Lämpimästi ter
 vetuloa Varpasaaren keitaalle nauttimaan loppu kesän KUUMIMMASTA tapahtuma
 sta nimittäin Imatran Varpasaari täyttyy siirrettävistä saunoista kun j
 ärjestämme Saunafestarin yhteistuumin Vuoksen kalastuspuiston\,  Imatran-
 Saunalautan ja Wake Park Imatran kanssa. Mukana myös Imatran Talviuimarit 
 ja Imatran Uimahalli\,  jotka lämmittävät saunansa festivaali kansalle. 
 MITÄ? Erilaisia saunoja\,  niin paikallaan olevia kuin[..]\nhttps://visits
 auna.com/events/saunan-vuoksi-festivaali/
URL:https://visitsauna.com/events/saunan-vuoksi-festivaali/
END:VEVENT
END:VCALENDAR