BEGIN:VCALENDAR
VERSION:2.0
PRODID:-//eventon.com NONSGML v1.0//EN
CALSCALE:GREGORIAN
METHOD:PUBLISH
BEGIN:VEVENT
UID:69e9d38bf1cec
DTSTAMP:20260423T080843Z
DTSTART:20260306T060000Z
DTEND:20260308T160000Z
LOCATION:Nuuksio Nuuksiontie
SUMMARY:Nuuksio Sauna Weekend
DESCRIPTION:Nuuksio Sauna Weekend Talven taittumista juhlitaan Nuuksio Saun
 a Weekend -tapahtumassa 7.-9.3.2024. TÃ¤llÃ¤ vuosittaisella tapahtumalla Nu
 uksio Lakelandin yrittÃ¤jÃ¤t haluavat kiinnittÃ¤Ã¤ ihmisten huomiota ilmast
 onmuutokseen. Muistelemalla ja vertailemalla saunatapahtuman sÃ¤Ã¤tÃ¤ ja jÃ
 ¤Ã¤tilannetta asia konkretisoituu ja jÃ¤ttÃ¤Ã¤ pysyvÃ¤mmÃ¤n muistijÃ¤ljen. 
 Huomioithan\,  ettÃ¤ tapahtumat sijaitsevat ympÃ¤ri Nuuksion aluetta kolmen
  kunnan alueella ja vÃ¤limatkat ovat pitkiÃ¤. Jokainen[..]\nhttps://visitsa
 una.com/events/nuuksio-sauna-weekend/
URL:https://visitsauna.com/events/nuuksio-sauna-weekend/
END:VEVENT
END:VCALENDAR