BEGIN:VCALENDAR
VERSION:2.0
PRODID:-//eventon.com NONSGML v1.0//EN
CALSCALE:GREGORIAN
METHOD:PUBLISH
BEGIN:VEVENT
UID:69e9eae4995da
DTSTAMP:20260423T094820Z
DTSTART:20251004T113000Z
DTEND:20251004T160000Z
LOCATION:Herrankukkaro Luotojentie 245
SUMMARY:Valoa pimeään savusaunatapahtuma
DESCRIPTION:4.10. Valoa pimeään savusaunatapahtuma Herrankukkaron savusau
 natapahtuma on valopilkku rauhoittuvassa saaristossa. Marraskuu on tulossa 
 ja illat alkavat hämärtyä aikaisemmin ja aikaisemmin. Sauna lämpiää e
 delleen\,  mutta perinteisesti hieman eri syistä kuin kesällä. Nyt kerä
 tään lämpöä ja voimaa talven varalle. Herrankukkaron lyhdyt luovat val
 osillan saariston sydämeen. Aikataulu 4.10.2025 Lauantai Saapuminen 14:30 
 14:30 &#8211;[..]\nhttps://visitsauna.com/events/valoa-pimeaan-savusaunatap
 ahtuma/
URL:https://visitsauna.com/events/valoa-pimeaan-savusaunatapahtuma/
END:VEVENT
END:VCALENDAR