BEGIN:VCALENDAR
VERSION:2.0
PRODID:-//eventon.com NONSGML v1.0//EN
CALSCALE:GREGORIAN
METHOD:PUBLISH
BEGIN:VEVENT
UID:69ea1f25299c4
DTSTAMP:20260423T133117Z
DTSTART:20250816T110000Z
DTEND:20250816T170000Z
LOCATION:Riihisaari Riihisaari
SUMMARY:Savonlinnan Saunafestivaali
DESCRIPTION:Erityistä tämän kesän festivaalissa on se\,  että saamme e
 nsimmäistä kertaa saunottavaksemme EASA arkkitehtifestivaalilla rakennetu
 n Riihisaaren saunaseuran oman saunan. Tule ja koe miten arkkitehtiopiskeli
 joiden rakentama sauna lämmittää ja rentouttaa! Lisäksi tämän kesän 
 teemana on saada viime kesää useampia saunalaivoja Riihisaareen saunottav
 aksi. Tapahtumassa pääsee uimaan järveen kansallismaisemassa. Tapahtumaa
 n tulee myös ruokakojuja ja[..]\nhttps://visitsauna.com/events/savonlinnan
 -saunafestivaali/
URL:https://visitsauna.com/events/savonlinnan-saunafestivaali/
END:VEVENT
END:VCALENDAR