BEGIN:VCALENDAR
VERSION:2.0
PRODID:-//eventon.com NONSGML v1.0//EN
CALSCALE:GREGORIAN
METHOD:PUBLISH
BEGIN:VEVENT
UID:69ea06f5d3024
DTSTAMP:20260423T114805Z
DTSTART:20250823T080000Z
DTEND:20250823T130000Z
LOCATION:Herrankukkaro Luotojentie 245
SUMMARY:Suven Savusaunatapahtuma
DESCRIPTION:KesÃ¤ ja sauna. Onko mitÃ¤Ã¤n sen suomalaisempaa? Herrankukkaro
 ssa juhlitaan suomalaista savusaunaa vielÃ¤ kun kesÃ¤Ã¤ on hieman jÃ¤ljellÃ
 ¤. Sauna lÃ¤mpiÃ¤Ã¤ ja pÃ¶ydÃ¤t notkuvat saaristolaisista herkuista. Savusa
 unajooga klo 11.00 Tule virittÃ¤ytymÃ¤Ã¤n savusaunatapahtuman tunnelmaan sa
 vusaunajoogan merkeissÃ¤. PehmeÃ¤ lÃ¤mpÃ¶ avaa kehoa\,  rauhoittaa mieltÃ¤ 
 ja valmistaa sinut nautinnolliseen pÃ¤ivÃ¤Ã¤n. Joogahetken ohjaa Hyvinvoinn
 in mentori ja joogaohjaaja[..]\nhttps://visitsauna.com/events/suven-savusau
 natapahtuma/
URL:https://visitsauna.com/events/suven-savusaunatapahtuma/
END:VEVENT
END:VCALENDAR