BEGIN:VCALENDAR
VERSION:2.0
PRODID:-//eventon.com NONSGML v1.0//EN
CALSCALE:GREGORIAN
METHOD:PUBLISH
BEGIN:VEVENT
UID:69e95df7063e1
DTSTAMP:20260422T234703Z
DTSTART:20251025T060000Z
DTEND:20251025T163000Z
LOCATION:Furuvik Furuvikintie 5
SUMMARY:Furuvik Saunaday
DESCRIPTION:Furuvikin tontilla lämpenee Pihasauna\,  Rantasauna ja muut er
 ityissaunat! Villa Furuvikin Sauna Day -tapahtumassa on saunojen ja paljuje
 n lisäksi ihana meressäuintimahdollisuus! Saunatapahtumassa tarjolla kolm
 e 2\, 5 tunnin mittaista saunavuoroa aikaväleillä klo 12.00-14.30\,  1
 4.30-17.00\,  17.00-19.30. Ole ensimmäisten joukossa tässä uniikissa sau
 natapahtumassa! *** &nbsp; World Sauna Day on ainutlaatuinen ja kansainvä
 linen tapahtumapäivä\,  joka tuo saunakulttuurin ystävät yhteen yli[..]
 \nhttps://visitsauna.com/events/furuvik-saunaday/
URL:https://visitsauna.com/events/furuvik-saunaday/
END:VEVENT
END:VCALENDAR